View In:
ArcGIS JavaScript
ArcGIS Online Map Viewer
ArcGIS Earth
ArcMap
View Footprint In:
ArcGIS Online Map Viewer
Service Description: cobc_COBC_BayCity_2020
Name: cobc_COBC_BayCity_2020
Description:
Single Fused Map Cache: false
Extent:
XMin: 1.3242499999999994E7
YMin: 742499.9999999651
XMax: 1.3262499999999994E7
YMax: 774999.9999999651
Spatial Reference: PROJCS["NAD_1983_2011_StatePlane_Michigan_South_FIPS_2113_Ft_Intl",GEOGCS["GCS_NAD_1983_2011",DATUM["D_NAD_1983_2011",SPHEROID["GRS_1980",6378137.0,298.257222101]],PRIMEM["Greenwich",0.0],UNIT["Degree",0.0174532925199433]],PROJECTION["Lambert_Conformal_Conic"],PARAMETER["false_easting",13123359.58005249],PARAMETER["false_northing",0.0],PARAMETER["central_meridian",-84.36666666666666],PARAMETER["standard_parallel_1",42.06666666666667],PARAMETER["standard_parallel_2",43.66666666666666],PARAMETER["latitude_of_origin",41.5],UNIT["Foot",0.3048]]
Initial Extent:
XMin: 1.3242499999999994E7
YMin: 742499.9999999651
XMax: 1.3262499999999994E7
YMax: 774999.9999999651
Spatial Reference: PROJCS["NAD_1983_2011_StatePlane_Michigan_South_FIPS_2113_Ft_Intl",GEOGCS["GCS_NAD_1983_2011",DATUM["D_NAD_1983_2011",SPHEROID["GRS_1980",6378137.0,298.257222101]],PRIMEM["Greenwich",0.0],UNIT["Degree",0.0174532925199433]],PROJECTION["Lambert_Conformal_Conic"],PARAMETER["false_easting",13123359.58005249],PARAMETER["false_northing",0.0],PARAMETER["central_meridian",-84.36666666666666],PARAMETER["standard_parallel_1",42.06666666666667],PARAMETER["standard_parallel_2",43.66666666666666],PARAMETER["latitude_of_origin",41.5],UNIT["Foot",0.3048]]
Full Extent:
XMin: 1.3242499999999994E7
YMin: 742499.9999999651
XMax: 1.3262499999999994E7
YMax: 774999.9999999651
Spatial Reference: PROJCS["NAD_1983_2011_StatePlane_Michigan_South_FIPS_2113_Ft_Intl",GEOGCS["GCS_NAD_1983_2011",DATUM["D_NAD_1983_2011",SPHEROID["GRS_1980",6378137.0,298.257222101]],PRIMEM["Greenwich",0.0],UNIT["Degree",0.0174532925199433]],PROJECTION["Lambert_Conformal_Conic"],PARAMETER["false_easting",13123359.58005249],PARAMETER["false_northing",0.0],PARAMETER["central_meridian",-84.36666666666666],PARAMETER["standard_parallel_1",42.06666666666667],PARAMETER["standard_parallel_2",43.66666666666666],PARAMETER["latitude_of_origin",41.5],UNIT["Foot",0.3048]]
Pixel Size X: 0.25
Pixel Size Y: 0.25
Band Count: 4
Pixel Type: U8
RasterFunction Infos: {"rasterFunctionInfos": [
{
"name": "Raster Function Template",
"description": "This raster function is for removing the nodata values from the Bay City 2020 imagery. ",
"help": ""
},
{
"name": "None",
"description": "",
"help": ""
}
]}
Mensuration Capabilities: Basic
Has Histograms: true
Has Colormap: false
Has Multi Dimensions : false
Rendering Rule:
Min Scale: 1.0824020399897044E9
Max Scale: 4129.036102255647
Copyright Text:
Service Data Type: esriImageServiceDataTypeGeneric
Min Values: 0, 0, 0, -3.8599707997951455E-34
Max Values: 255, 255, 255, 5.3265975057114584E-39
Mean Values: 108.53616333007812, 112.57685089111328, 97.02960968017578, 0
Standard Deviation Values: 47.4236946105957, 44.17015838623047, 43.95098114013672, -1
Object ID Field:
Fields:
None
Default Mosaic Method: Center
Allowed Mosaic Methods:
SortField:
SortValue: null
Mosaic Operator: First
Default Compression Quality: 75
Default Resampling Method: Nearest
Max Record Count: null
Max Image Height: 4100
Max Image Width: 15000
Max Download Image Count: null
Max Mosaic Image Count: null
Allow Raster Function: true
Allow Copy: true
Allow Analysis: true
Allow Compute TiePoints: false
Supports Statistics: false
Supports Advanced Queries: false
Use StandardizedQueries: true
Raster Type Infos:
Name: Raster Dataset
Description: Supports all ArcGIS Raster Datasets
Help:
Has Raster Attribute Table: false
Edit Fields Info: null
Ownership Based AccessControl For Rasters: null
Child Resources:
Info
Histograms
Statistics
Key Properties
Legend
Raster Function Infos
Supported Operations:
Export Image
Identify
Measure
Compute Histograms
Compute Statistics Histograms
Get Samples
Compute Class Statistics
Query Boundary
Compute Pixel Location
Validate
Project