{
 "currentVersion": 10.81,
 "serviceDescription": "cobc_COBC_BayCity_2020",
 "name": "cobc_COBC_BayCity_2020",
 "description": "",
 "extent": {
  "xmin": 1.3242499999999994E7,
  "ymin": 742499.9999999651,
  "xmax": 1.3262499999999994E7,
  "ymax": 774999.9999999651,
  "spatialReference": {
   "wkt": "PROJCS[\"NAD_1983_2011_StatePlane_Michigan_South_FIPS_2113_Ft_Intl\",GEOGCS[\"GCS_NAD_1983_2011\",DATUM[\"D_NAD_1983_2011\",SPHEROID[\"GRS_1980\",6378137.0,298.257222101]],PRIMEM[\"Greenwich\",0.0],UNIT[\"Degree\",0.0174532925199433]],PROJECTION[\"Lambert_Conformal_Conic\"],PARAMETER[\"false_easting\",13123359.58005249],PARAMETER[\"false_northing\",0.0],PARAMETER[\"central_meridian\",-84.36666666666666],PARAMETER[\"standard_parallel_1\",42.06666666666667],PARAMETER[\"standard_parallel_2\",43.66666666666666],PARAMETER[\"latitude_of_origin\",41.5],UNIT[\"Foot\",0.3048]]"
  }
 },
 "initialExtent": {
  "xmin": 1.3242499999999994E7,
  "ymin": 742499.9999999651,
  "xmax": 1.3262499999999994E7,
  "ymax": 774999.9999999651,
  "spatialReference": {
   "wkt": "PROJCS[\"NAD_1983_2011_StatePlane_Michigan_South_FIPS_2113_Ft_Intl\",GEOGCS[\"GCS_NAD_1983_2011\",DATUM[\"D_NAD_1983_2011\",SPHEROID[\"GRS_1980\",6378137.0,298.257222101]],PRIMEM[\"Greenwich\",0.0],UNIT[\"Degree\",0.0174532925199433]],PROJECTION[\"Lambert_Conformal_Conic\"],PARAMETER[\"false_easting\",13123359.58005249],PARAMETER[\"false_northing\",0.0],PARAMETER[\"central_meridian\",-84.36666666666666],PARAMETER[\"standard_parallel_1\",42.06666666666667],PARAMETER[\"standard_parallel_2\",43.66666666666666],PARAMETER[\"latitude_of_origin\",41.5],UNIT[\"Foot\",0.3048]]"
  }
 },
 "fullExtent": {
  "xmin": 1.3242499999999994E7,
  "ymin": 742499.9999999651,
  "xmax": 1.3262499999999994E7,
  "ymax": 774999.9999999651,
  "spatialReference": {
   "wkt": "PROJCS[\"NAD_1983_2011_StatePlane_Michigan_South_FIPS_2113_Ft_Intl\",GEOGCS[\"GCS_NAD_1983_2011\",DATUM[\"D_NAD_1983_2011\",SPHEROID[\"GRS_1980\",6378137.0,298.257222101]],PRIMEM[\"Greenwich\",0.0],UNIT[\"Degree\",0.0174532925199433]],PROJECTION[\"Lambert_Conformal_Conic\"],PARAMETER[\"false_easting\",13123359.58005249],PARAMETER[\"false_northing\",0.0],PARAMETER[\"central_meridian\",-84.36666666666666],PARAMETER[\"standard_parallel_1\",42.06666666666667],PARAMETER[\"standard_parallel_2\",43.66666666666666],PARAMETER[\"latitude_of_origin\",41.5],UNIT[\"Foot\",0.3048]]"
  }
 },
 "pixelSizeX": 0.25,
 "pixelSizeY": 0.25,
 "datasetFormat": "SDR",
 "uncompressedSize": 41600000000,
 "blockWidth": 128,
 "blockHeight": 128,
 "compressionType": "LZ77",
 "bandNames": [
  "Band_1",
  "Band_2",
  "Band_3",
  "Band_4"
 ],
 "allowCopy": true,
 "allowAnalysis": true,
 "bandCount": 4,
 "pixelType": "U8",
 "minPixelSize": 0,
 "maxPixelSize": 0,
 "copyrightText": "",
 "serviceDataType": "esriImageServiceDataTypeGeneric",
 "serviceSourceType": "esriImageServiceSourceTypeDataset",
 "minValues": [
  0,
  0,
  0,
  -3.8599707997951455E-34
 ],
 "maxValues": [
  255,
  255,
  255,
  5.3265975057114584E-39
 ],
 "meanValues": [
  108.53616333007812,
  112.57685089111328,
  97.02960968017578,
  0
 ],
 "stdvValues": [
  47.4236946105957,
  44.17015838623047,
  43.95098114013672,
  -1
 ],
 "objectIdField": "",
 "fields": [],
 "capabilities": "Mensuration,Image,Metadata",
 "defaultMosaicMethod": "Center",
 "allowedMosaicMethods": "",
 "sortField": "",
 "sortValue": null,
 "sortAscending": true,
 "mosaicOperator": "First",
 "defaultCompressionQuality": 75,
 "defaultResamplingMethod": "Nearest",
 "maxImageHeight": 4100,
 "maxImageWidth": 15000,
 "allowRasterFunction": true,
 "rasterFunctionInfos": [
  {
   "name": "Raster Function Template",
   "description": "This raster function is for removing the nodata values from the Bay City 2020 imagery. ",
   "help": ""
  },
  {
   "name": "None",
   "description": "",
   "help": ""
  }
 ],
 "rasterTypeInfos": [
  {
   "name": "Raster Dataset",
   "description": "Supports all ArcGIS Raster Datasets",
   "help": ""
  }
 ],
 "mensurationCapabilities": "Basic",
 "hasHistograms": true,
 "hasColormap": false,
 "hasRasterAttributeTable": false,
 "minScale": 1.0824020399897044E9,
 "maxScale": 4129.036102255647,
 "exportTilesAllowed": false,
 "hasMultidimensions": false,
 "supportsStatistics": false,
 "supportsAdvancedQueries": false,
 "editFieldsInfo": null,
 "ownershipBasedAccessControlForRasters": null,
 "allowComputeTiePoints": false,
 "useStandardizedQueries": true,
 "advancedQueryCapabilities": {
  "useStandardizedQueries": true,
  "supportsStatistics": false,
  "supportsOrderBy": false,
  "supportsDistinct": false,
  "supportsPagination": false
 },
 "spatialReference": {
  "wkt": "PROJCS[\"NAD_1983_2011_StatePlane_Michigan_South_FIPS_2113_Ft_Intl\",GEOGCS[\"GCS_NAD_1983_2011\",DATUM[\"D_NAD_1983_2011\",SPHEROID[\"GRS_1980\",6378137.0,298.257222101]],PRIMEM[\"Greenwich\",0.0],UNIT[\"Degree\",0.0174532925199433]],PROJECTION[\"Lambert_Conformal_Conic\"],PARAMETER[\"false_easting\",13123359.58005249],PARAMETER[\"false_northing\",0.0],PARAMETER[\"central_meridian\",-84.36666666666666],PARAMETER[\"standard_parallel_1\",42.06666666666667],PARAMETER[\"standard_parallel_2\",43.66666666666666],PARAMETER[\"latitude_of_origin\",41.5],UNIT[\"Foot\",0.3048]]"
 }
}
