View In:
ArcGIS JavaScript
ArcGIS Online Map Viewer
ArcGIS Earth
ArcMap
View Footprint In:
ArcGIS Online Map Viewer
Service Description: Cached imagery service for Bay City
Name: Imagery_BayCity_2015
Description: Cached imagery service for Bay City
Single Fused Map Cache: true
Tile Info:
- Height: 256
- Width: 256
- DPI: 96
-
Levels of Detail: 8
- Format: MIXED
- Compression Quality: 75.0
- LERC Error: NaN
- Origin: X: -1.071386E8
Y: 1.4333010000000003E8
- Spatial Reference: 103079
(6499)
VCSWkid(5703)
LatestVCSWkid(5703)
Extent:
XMin: 1.3242268687579134E7
YMin: 742719.9360877277
XMax: 1.3261920687579134E7
YMax: 774832.4360877277
Spatial Reference: 103079
(6499)
VCSWkid(5703)
LatestVCSWkid(5703)
Initial Extent:
XMin: 1.3242268687579134E7
YMin: 742719.9360877277
XMax: 1.3261920687579134E7
YMax: 774832.4360877277
Spatial Reference: 103079
(6499)
VCSWkid(5703)
LatestVCSWkid(5703)
Full Extent:
XMin: 1.3242268687579134E7
YMin: 742719.9360877277
XMax: 1.3261920687579134E7
YMax: 774832.4360877277
Spatial Reference: 103079
(6499)
VCSWkid(5703)
LatestVCSWkid(5703)
Pixel Size X: 0.5
Pixel Size Y: 0.5
Band Count: 3
Pixel Type: U8
RasterFunction Infos: {"rasterFunctionInfos": [{
"name": "None",
"description": "",
"help": ""
}]}
Mensuration Capabilities: Basic
Has Histograms: true
Has Colormap: false
Has Multi Dimensions : false
Rendering Rule:
Min Scale: 0
Max Scale: 0
Copyright Text:
Service Data Type: esriImageServiceDataTypeRGB
Min Values: 0, 0, 0
Max Values: 255, 255, 255
Mean Values: 112.68101591158323, 115.65143451149258, 110.3134303156221
Standard Deviation Values: 42.07859796808492, 40.303286479509836, 40.6334468744076
Object ID Field:
Fields:
None
Default Mosaic Method: Center
Allowed Mosaic Methods:
SortField:
SortValue: null
Mosaic Operator: First
Default Compression Quality: 75
Default Resampling Method: Bilinear
Max Record Count: null
Max Image Height: 4100
Max Image Width: 15000
Max Download Image Count: null
Max Mosaic Image Count: null
Allow Raster Function: true
Allow Copy: null
Allow Analysis: null
Allow Compute TiePoints: false
Supports Statistics: false
Supports Advanced Queries: false
Use StandardizedQueries: true
Raster Type Infos:
Name: Raster Dataset
Description: Supports all ArcGIS Raster Datasets
Help:
Has Raster Attribute Table: false
Edit Fields Info: null
Ownership Based AccessControl For Rasters: null
Child Resources:
Info
Histograms
Key Properties
Legend
Raster Function Infos
Supported Operations:
Export Image
Identify
Measure
Compute Histograms
Compute Statistics Histograms
Get Samples
Compute Class Statistics
Query Boundary
Compute Pixel Location
Validate
Project