{
 "currentVersion": 10.81,
 "serviceDescription": "Cached imagery service for Bay City",
 "name": "Imagery_BayCity_2015",
 "description": "Cached imagery service for Bay City",
 "extent": {
  "xmin": 1.3242268687579134E7,
  "ymin": 742719.9360877277,
  "xmax": 1.3261920687579134E7,
  "ymax": 774832.4360877277,
  "spatialReference": {
   "wkid": 103079,
   "latestWkid": 6499,
   "vcsWkid": 5703,
   "latestVcsWkid": 5703
  }
 },
 "initialExtent": {
  "xmin": 1.3242268687579134E7,
  "ymin": 742719.9360877277,
  "xmax": 1.3261920687579134E7,
  "ymax": 774832.4360877277,
  "spatialReference": {
   "wkid": 103079,
   "latestWkid": 6499,
   "vcsWkid": 5703,
   "latestVcsWkid": 5703
  }
 },
 "fullExtent": {
  "xmin": 1.3242268687579134E7,
  "ymin": 742719.9360877277,
  "xmax": 1.3261920687579134E7,
  "ymax": 774832.4360877277,
  "spatialReference": {
   "wkid": 103079,
   "latestWkid": 6499,
   "vcsWkid": 5703,
   "latestVcsWkid": 5703
  }
 },
 "heightModelInfo": {
  "heightModel": "gravity_related_height",
  "vertCRS": "NAVD_1988",
  "heightUnit": "meter"
 },
 "pixelSizeX": 0.5,
 "pixelSizeY": 0.5,
 "bandCount": 3,
 "pixelType": "U8",
 "minPixelSize": 0,
 "maxPixelSize": 0,
 "copyrightText": "",
 "serviceDataType": "esriImageServiceDataTypeRGB",
 "minValues": [
  0,
  0,
  0
 ],
 "maxValues": [
  255,
  255,
  255
 ],
 "meanValues": [
  112.68101591158323,
  115.65143451149258,
  110.3134303156221
 ],
 "stdvValues": [
  42.07859796808492,
  40.303286479509836,
  40.6334468744076
 ],
 "objectIdField": "",
 "fields": [],
 "capabilities": "Mensuration,Image,Metadata",
 "defaultMosaicMethod": "Center",
 "allowedMosaicMethods": "",
 "sortField": "",
 "sortValue": null,
 "sortAscending": true,
 "mosaicOperator": "First",
 "defaultCompressionQuality": 75,
 "defaultResamplingMethod": "Bilinear",
 "maxImageHeight": 4100,
 "maxImageWidth": 15000,
 "singleFusedMapCache": true,
 "tileInfo": {
  "rows": 256,
  "cols": 256,
  "dpi": 96,
  "format": "MIXED",
  "compressionQuality": 75,
  "origin": {
   "x": -107138600,
   "y": 1.4333010000000003E8
  },
  "spatialReference": {
   "wkid": 103079,
   "latestWkid": 6499,
   "vcsWkid": 5703,
   "latestVcsWkid": 5703
  },
  "lods": [
   {
    "level": 0,
    "resolution": 55.55566666688889,
    "scale": 64000
   },
   {
    "level": 1,
    "resolution": 27.777833333444445,
    "scale": 32000
   },
   {
    "level": 2,
    "resolution": 13.888916666722222,
    "scale": 16000
   },
   {
    "level": 3,
    "resolution": 6.944458333361111,
    "scale": 8000
   },
   {
    "level": 4,
    "resolution": 3.4722291666805556,
    "scale": 4000
   },
   {
    "level": 5,
    "resolution": 1.7361145833402778,
    "scale": 2000
   },
   {
    "level": 6,
    "resolution": 0.8680572916701389,
    "scale": 1000
   },
   {
    "level": 7,
    "resolution": 0.43402864583506945,
    "scale": 500
   }
  ]
 },
 "cacheType": "Map",
 "allowRasterFunction": true,
 "rasterFunctionInfos": [
  {
   "name": "None",
   "description": "",
   "help": ""
  }
 ],
 "rasterTypeInfos": [
  {
   "name": "Raster Dataset",
   "description": "Supports all ArcGIS Raster Datasets",
   "help": ""
  }
 ],
 "mensurationCapabilities": "Basic",
 "hasHistograms": true,
 "hasColormap": false,
 "hasRasterAttributeTable": false,
 "minScale": 0,
 "maxScale": 0,
 "exportTilesAllowed": false,
 "hasMultidimensions": false,
 "supportsStatistics": false,
 "supportsAdvancedQueries": false,
 "editFieldsInfo": null,
 "ownershipBasedAccessControlForRasters": null,
 "allowComputeTiePoints": false,
 "useStandardizedQueries": true,
 "advancedQueryCapabilities": {
  "useStandardizedQueries": true,
  "supportsStatistics": false,
  "supportsOrderBy": false,
  "supportsDistinct": false,
  "supportsPagination": false
 },
 "spatialReference": {
  "wkid": 103079,
  "latestWkid": 6499,
  "vcsWkid": 5703,
  "latestVcsWkid": 5703
 }
}
