View In:
ArcGIS JavaScript
ArcGIS Online Map Viewer
ArcGIS Earth
ArcMap
View Footprint In:
ArcGIS Online Map Viewer
Service Description: The extent of the map is from Bulock road to Wilder road. Please note: The original scan of this map does have distortions due to the methods used and the original condition of the map. This map has been georeferenced and some areas do not align properly with real world features. To view the original scan please see the kippScans drive under OLD Bay City Maps.
Name: HistoricMap1929
Description: The extent of the map is from Bulock road to Wilder road. Please note: The original scan of this map does have distortions due to the methods used and the original condition of the map. This map has been georeferenced and some areas do not align properly with real world features. To view the original scan please see the kippScans drive under OLD Bay City Maps.
Single Fused Map Cache: true
Tile Info:
- Height: 256
- Width: 256
- DPI: 96
-
Levels of Detail: 9
- Format: MIXED
- Compression Quality: 75.0
- LERC Error: NaN
- Origin: X: -1.071386E8
Y: 1.4333010000000003E8
- Spatial Reference: 2898
(2898)
Extent:
XMin: 1.3241646402437672E7
YMin: 749397.9600832015
XMax: 1.3260896973523192E7
YMax: 775001.3052823246
Spatial Reference: 2898
(2898)
Initial Extent:
XMin: 1.3241646402437672E7
YMin: 749397.9600832015
XMax: 1.3260896973523192E7
YMax: 775001.3052823246
Spatial Reference: 2898
(2898)
Full Extent:
XMin: 1.3241646402437672E7
YMin: 749397.9600832015
XMax: 1.3260896973523192E7
YMax: 775001.3052823246
Spatial Reference: 2898
(2898)
Pixel Size X: 0.951726458966732
Pixel Size Y: 0.951726458966732
Band Count: 3
Pixel Type: U8
RasterFunction Infos: {"rasterFunctionInfos": [{
"name": "None",
"description": "",
"help": ""
}]}
Mensuration Capabilities: Basic
Has Histograms: true
Has Colormap: false
Has Multi Dimensions : false
Rendering Rule:
Min Scale: 250000
Max Scale: 976.5625
Copyright Text:
Service Data Type: esriImageServiceDataTypeRGB
Min Values: 1, 1, 1
Max Values: 255, 255, 255
Mean Values: 180.7063622691204, 167.6575007881612, 147.58909509085734
Standard Deviation Values: 43.862557950560436, 40.54698402946546, 40.43662962076542
Object ID Field:
Fields:
None
Default Mosaic Method: Center
Allowed Mosaic Methods:
SortField:
SortValue: null
Mosaic Operator: First
Default Compression Quality: 75
Default Resampling Method: Bilinear
Max Record Count: null
Max Image Height: 4100
Max Image Width: 15000
Max Download Image Count: null
Max Mosaic Image Count: null
Allow Raster Function: true
Allow Copy: true
Allow Analysis: true
Allow Compute TiePoints: false
Supports Statistics: false
Supports Advanced Queries: false
Use StandardizedQueries: true
Raster Type Infos:
Name: Raster Dataset
Description: Supports all ArcGIS Raster Datasets
Help:
Has Raster Attribute Table: false
Edit Fields Info: null
Ownership Based AccessControl For Rasters: null
Child Resources:
Info
Histograms
Statistics
Key Properties
Legend
Raster Function Infos
Supported Operations:
Export Image
Identify
Measure
Compute Histograms
Compute Statistics Histograms
Get Samples
Compute Class Statistics
Query Boundary
Compute Pixel Location
Validate
Project