{
 "currentVersion": 10.81,
 "serviceDescription": "The extent of the map is from Bulock road to Wilder road. Please note: The original scan of this map does have distortions due to the methods used and the original condition of the map. This map has been georeferenced and some areas do not align properly with real world features. To view the original scan please see the kippScans drive under OLD Bay City Maps.",
 "name": "HistoricMap1929",
 "description": "The extent of the map is from Bulock road to Wilder road. Please note: The original scan of this map does have distortions due to the methods used and the original condition of the map. This map has been georeferenced and some areas do not align properly with real world features. To view the original scan please see the kippScans drive under OLD Bay City Maps.",
 "extent": {
  "xmin": 1.3241646402437672E7,
  "ymin": 749397.9600832015,
  "xmax": 1.3260896973523192E7,
  "ymax": 775001.3052823246,
  "spatialReference": {
   "wkid": 2898,
   "latestWkid": 2898
  }
 },
 "initialExtent": {
  "xmin": 1.3241646402437672E7,
  "ymin": 749397.9600832015,
  "xmax": 1.3260896973523192E7,
  "ymax": 775001.3052823246,
  "spatialReference": {
   "wkid": 2898,
   "latestWkid": 2898
  }
 },
 "fullExtent": {
  "xmin": 1.3241646402437672E7,
  "ymin": 749397.9600832015,
  "xmax": 1.3260896973523192E7,
  "ymax": 775001.3052823246,
  "spatialReference": {
   "wkid": 2898,
   "latestWkid": 2898
  }
 },
 "pixelSizeX": 0.951726458966732,
 "pixelSizeY": 0.951726458966732,
 "datasetFormat": "SDR",
 "uncompressedSize": 1632440262,
 "blockWidth": 128,
 "blockHeight": 128,
 "compressionType": "LZ77",
 "bandNames": [
  "Band_1",
  "Band_2",
  "Band_3"
 ],
 "allowCopy": true,
 "allowAnalysis": true,
 "bandCount": 3,
 "pixelType": "U8",
 "minPixelSize": 0.84771219889662,
 "maxPixelSize": 217.0143229175347,
 "copyrightText": "",
 "serviceDataType": "esriImageServiceDataTypeRGB",
 "serviceSourceType": "esriImageServiceSourceTypeDataset",
 "minValues": [
  1,
  1,
  1
 ],
 "maxValues": [
  255,
  255,
  255
 ],
 "meanValues": [
  180.7063622691204,
  167.6575007881612,
  147.58909509085734
 ],
 "stdvValues": [
  43.862557950560436,
  40.54698402946546,
  40.43662962076542
 ],
 "objectIdField": "",
 "fields": [],
 "capabilities": "Mensuration,Image,Metadata",
 "defaultMosaicMethod": "Center",
 "allowedMosaicMethods": "",
 "sortField": "",
 "sortValue": null,
 "sortAscending": true,
 "mosaicOperator": "First",
 "defaultCompressionQuality": 75,
 "defaultResamplingMethod": "Bilinear",
 "maxImageHeight": 4100,
 "maxImageWidth": 15000,
 "singleFusedMapCache": true,
 "tileInfo": {
  "rows": 256,
  "cols": 256,
  "dpi": 96,
  "format": "MIXED",
  "compressionQuality": 75,
  "origin": {
   "x": -107138600,
   "y": 1.4333010000000003E8
  },
  "spatialReference": {
   "wkid": 2898,
   "latestWkid": 2898
  },
  "lods": [
   {
    "level": 0,
    "resolution": 217.0143229175347,
    "scale": 250000
   },
   {
    "level": 1,
    "resolution": 108.50716145876736,
    "scale": 125000
   },
   {
    "level": 2,
    "resolution": 54.25358072938368,
    "scale": 62500
   },
   {
    "level": 3,
    "resolution": 27.12679036469184,
    "scale": 31250
   },
   {
    "level": 4,
    "resolution": 13.56339518234592,
    "scale": 15625
   },
   {
    "level": 5,
    "resolution": 6.78169759117296,
    "scale": 7812.5
   },
   {
    "level": 6,
    "resolution": 3.39084879558648,
    "scale": 3906.25
   },
   {
    "level": 7,
    "resolution": 1.69542439779324,
    "scale": 1953.125
   },
   {
    "level": 8,
    "resolution": 0.84771219889662,
    "scale": 976.5625
   }
  ]
 },
 "cacheType": "Map",
 "allowRasterFunction": true,
 "rasterFunctionInfos": [
  {
   "name": "None",
   "description": "",
   "help": ""
  }
 ],
 "rasterTypeInfos": [
  {
   "name": "Raster Dataset",
   "description": "Supports all ArcGIS Raster Datasets",
   "help": ""
  }
 ],
 "mensurationCapabilities": "Basic",
 "hasHistograms": true,
 "hasColormap": false,
 "hasRasterAttributeTable": false,
 "minScale": 250000,
 "maxScale": 976.5625,
 "exportTilesAllowed": false,
 "hasMultidimensions": false,
 "supportsStatistics": false,
 "supportsAdvancedQueries": false,
 "editFieldsInfo": null,
 "ownershipBasedAccessControlForRasters": null,
 "allowComputeTiePoints": false,
 "useStandardizedQueries": true,
 "advancedQueryCapabilities": {
  "useStandardizedQueries": true,
  "supportsStatistics": false,
  "supportsOrderBy": false,
  "supportsDistinct": false,
  "supportsPagination": false
 },
 "spatialReference": {
  "wkid": 2898,
  "latestWkid": 2898
 }
}
