View In:
ArcGIS JavaScript
ArcGIS Online Map Viewer
ArcGIS Earth
ArcMap
View Footprint In:
ArcGIS Online Map Viewer
Service Description: Engineering/Soil_Boring_Locations_Map
Name: Engineering/Soil_Boring_Locations_Map
Description:
Single Fused Map Cache: false
Extent:
XMin: 1.3241801329386186E7
YMin: 742431.6330373378
XMax: 1.3264298344447507E7
YMax: 776546.3363276292
Spatial Reference: 2898
(2898)
Initial Extent:
XMin: 1.3241801329386186E7
YMin: 742431.6330373378
XMax: 1.3264298344447507E7
YMax: 776546.3363276292
Spatial Reference: 2898
(2898)
Full Extent:
XMin: 1.3241801329386186E7
YMin: 742431.6330373378
XMax: 1.3264298344447507E7
YMax: 776546.3363276292
Spatial Reference: 2898
(2898)
Pixel Size X: 1.0194405954921486
Pixel Size Y: 1.064454531819756
Band Count: 3
Pixel Type: U8
RasterFunction Infos: {"rasterFunctionInfos": [{
"name": "None",
"description": "",
"help": ""
}]}
Mensuration Capabilities: Basic
Has Histograms: true
Has Colormap: false
Has Multi Dimensions : false
Rendering Rule:
Min Scale: 0
Max Scale: 0
Copyright Text:
Service Data Type: esriImageServiceDataTypeRGB
Min Values: 0, 0, 0
Max Values: 255, 255, 255
Mean Values: 232.14962149874444, 216.79712080711707, 203.91439584314747
Standard Deviation Values: 33.7660120718982, 38.55176022046044, 19.818025775253364
Object ID Field:
Fields:
None
Default Mosaic Method: Center
Allowed Mosaic Methods:
SortField:
SortValue: null
Mosaic Operator: First
Default Compression Quality: 75
Default Resampling Method: Bilinear
Max Record Count: null
Max Image Height: 4100
Max Image Width: 15000
Max Download Image Count: null
Max Mosaic Image Count: null
Allow Raster Function: true
Allow Copy: true
Allow Analysis: true
Allow Compute TiePoints: false
Supports Statistics: false
Supports Advanced Queries: false
Use StandardizedQueries: true
Raster Type Infos:
Name: Raster Dataset
Description: Supports all ArcGIS Raster Datasets
Help:
Has Raster Attribute Table: false
Edit Fields Info: null
Ownership Based AccessControl For Rasters: null
Child Resources:
Info
Histograms
Statistics
Key Properties
Legend
Raster Function Infos
Supported Operations:
Export Image
Identify
Measure
Compute Histograms
Compute Statistics Histograms
Get Samples
Compute Class Statistics
Query Boundary
Compute Pixel Location
Validate
Project