{
 "currentVersion": 10.81,
 "serviceDescription": "Engineering/Soil_Boring_Locations_Map",
 "name": "Engineering/Soil_Boring_Locations_Map",
 "description": "",
 "extent": {
  "xmin": 1.3241801329386186E7,
  "ymin": 742431.6330373378,
  "xmax": 1.3264298344447507E7,
  "ymax": 776546.3363276292,
  "spatialReference": {
   "wkid": 2898,
   "latestWkid": 2898
  }
 },
 "initialExtent": {
  "xmin": 1.3241801329386186E7,
  "ymin": 742431.6330373378,
  "xmax": 1.3264298344447507E7,
  "ymax": 776546.3363276292,
  "spatialReference": {
   "wkid": 2898,
   "latestWkid": 2898
  }
 },
 "fullExtent": {
  "xmin": 1.3241801329386186E7,
  "ymin": 742431.6330373378,
  "xmax": 1.3264298344447507E7,
  "ymax": 776546.3363276292,
  "spatialReference": {
   "wkid": 2898,
   "latestWkid": 2898
  }
 },
 "pixelSizeX": 1.0194405954921486,
 "pixelSizeY": 1.064454531819756,
 "datasetFormat": "SDR",
 "uncompressedSize": 2121771996,
 "blockWidth": 128,
 "blockHeight": 128,
 "compressionType": "LZ77",
 "bandNames": [
  "Band_1",
  "Band_2",
  "Band_3"
 ],
 "allowCopy": true,
 "allowAnalysis": true,
 "bandCount": 3,
 "pixelType": "U8",
 "minPixelSize": 0,
 "maxPixelSize": 0,
 "copyrightText": "",
 "serviceDataType": "esriImageServiceDataTypeRGB",
 "serviceSourceType": "esriImageServiceSourceTypeDataset",
 "minValues": [
  0,
  0,
  0
 ],
 "maxValues": [
  255,
  255,
  255
 ],
 "meanValues": [
  232.14962149874444,
  216.79712080711707,
  203.91439584314747
 ],
 "stdvValues": [
  33.7660120718982,
  38.55176022046044,
  19.818025775253364
 ],
 "objectIdField": "",
 "fields": [],
 "capabilities": "Image,Metadata,Mensuration",
 "defaultMosaicMethod": "Center",
 "allowedMosaicMethods": "",
 "sortField": "",
 "sortValue": null,
 "sortAscending": true,
 "mosaicOperator": "First",
 "defaultCompressionQuality": 75,
 "defaultResamplingMethod": "Bilinear",
 "maxImageHeight": 4100,
 "maxImageWidth": 15000,
 "allowRasterFunction": true,
 "rasterFunctionInfos": [
  {
   "name": "None",
   "description": "",
   "help": ""
  }
 ],
 "rasterTypeInfos": [
  {
   "name": "Raster Dataset",
   "description": "Supports all ArcGIS Raster Datasets",
   "help": ""
  }
 ],
 "mensurationCapabilities": "Basic",
 "hasHistograms": true,
 "hasColormap": false,
 "hasRasterAttributeTable": false,
 "minScale": 0,
 "maxScale": 0,
 "exportTilesAllowed": false,
 "hasMultidimensions": false,
 "supportsStatistics": false,
 "supportsAdvancedQueries": false,
 "editFieldsInfo": null,
 "ownershipBasedAccessControlForRasters": null,
 "allowComputeTiePoints": false,
 "useStandardizedQueries": true,
 "advancedQueryCapabilities": {
  "useStandardizedQueries": true,
  "supportsStatistics": false,
  "supportsOrderBy": false,
  "supportsDistinct": false,
  "supportsPagination": false
 },
 "spatialReference": {
  "wkid": 2898,
  "latestWkid": 2898
 }
}
